BEGIN:VCALENDAR
VERSION:2.0
PRODID:-//Castle Farms - ECPv6.15.18//NONSGML v1.0//EN
CALSCALE:GREGORIAN
METHOD:PUBLISH
X-ORIGINAL-URL:https://castlefarms.com
X-WR-CALDESC:Events for Castle Farms
REFRESH-INTERVAL;VALUE=DURATION:PT1H
X-Robots-Tag:noindex
X-PUBLISHED-TTL:PT1H
BEGIN:VTIMEZONE
TZID:America/New_York
BEGIN:DAYLIGHT
TZOFFSETFROM:-0500
TZOFFSETTO:-0400
TZNAME:EDT
DTSTART:20240310T070000
END:DAYLIGHT
BEGIN:STANDARD
TZOFFSETFROM:-0400
TZOFFSETTO:-0500
TZNAME:EST
DTSTART:20241103T060000
END:STANDARD
BEGIN:DAYLIGHT
TZOFFSETFROM:-0500
TZOFFSETTO:-0400
TZNAME:EDT
DTSTART:20250309T070000
END:DAYLIGHT
BEGIN:STANDARD
TZOFFSETFROM:-0400
TZOFFSETTO:-0500
TZNAME:EST
DTSTART:20251102T060000
END:STANDARD
BEGIN:DAYLIGHT
TZOFFSETFROM:-0500
TZOFFSETTO:-0400
TZNAME:EDT
DTSTART:20260308T070000
END:DAYLIGHT
BEGIN:STANDARD
TZOFFSETFROM:-0400
TZOFFSETTO:-0500
TZNAME:EST
DTSTART:20261101T060000
END:STANDARD
END:VTIMEZONE
BEGIN:VEVENT
DTSTART;VALUE=DATE:20250321
DTEND;VALUE=DATE:20250323
DTSTAMP:20260425T142756
CREATED:20250305T204337Z
LAST-MODIFIED:20250321T142637Z
UID:159522-1742515200-1742687999@castlefarms.com
SUMMARY:Castle Pub - March Madness Weekend!
DESCRIPTION:Friday\, March 21st: March Madness – Join us for the First Round!   \nSaturday\, March 15th:  KARAOKE from 6-8pm hosted by Ken Dinkins!  March Madness – Second Round will play before & after!   \n  \nFeaturing: Drink Special Full Court Press $7 -A bold and refreshing whiskey smash with a citrus kick to keep you energized through madness!
URL:https://castlefarms.com/events/castle-pub-march-madness-weekend/
LOCATION:Castle Farms\, 5052 M66 NORTH\, Charlevoix\, MI\, 49720\, United States
ATTACH;FMTTYPE=image/png:https://castlefarms.com/wp-content/uploads/2025/03/Feb.-4.png
END:VEVENT
END:VCALENDAR