BEGIN:VCALENDAR
VERSION:2.0
PRODID:-//Castle Farms - ECPv6.15.18//NONSGML v1.0//EN
CALSCALE:GREGORIAN
METHOD:PUBLISH
X-WR-CALNAME:Castle Farms
X-ORIGINAL-URL:https://castlefarms.com
X-WR-CALDESC:Events for Castle Farms
REFRESH-INTERVAL;VALUE=DURATION:PT1H
X-Robots-Tag:noindex
X-PUBLISHED-TTL:PT1H
BEGIN:VTIMEZONE
TZID:America/New_York
BEGIN:DAYLIGHT
TZOFFSETFROM:-0500
TZOFFSETTO:-0400
TZNAME:EDT
DTSTART:20250309T070000
END:DAYLIGHT
BEGIN:STANDARD
TZOFFSETFROM:-0400
TZOFFSETTO:-0500
TZNAME:EST
DTSTART:20251102T060000
END:STANDARD
BEGIN:DAYLIGHT
TZOFFSETFROM:-0500
TZOFFSETTO:-0400
TZNAME:EDT
DTSTART:20260308T070000
END:DAYLIGHT
BEGIN:STANDARD
TZOFFSETFROM:-0400
TZOFFSETTO:-0500
TZNAME:EST
DTSTART:20261101T060000
END:STANDARD
BEGIN:DAYLIGHT
TZOFFSETFROM:-0500
TZOFFSETTO:-0400
TZNAME:EDT
DTSTART:20270314T070000
END:DAYLIGHT
BEGIN:STANDARD
TZOFFSETFROM:-0400
TZOFFSETTO:-0500
TZNAME:EST
DTSTART:20271107T060000
END:STANDARD
END:VTIMEZONE
BEGIN:VEVENT
DTSTART;TZID=America/New_York:20261108T120000
DTEND;TZID=America/New_York:20261108T150000
DTSTAMP:20260421T045859
CREATED:20260113T151455Z
LAST-MODIFIED:20260113T151455Z
UID:180222-1794139200-1794150000@castlefarms.com
SUMMARY:Grand Wedding Expo 2026 - ATTENDEES
DESCRIPTION:🎉 Grand Wedding Expo at Castle Farms 🎉\nTHIS EVENT IS FREE TO THE PUBLIC!! \nCalling all wedding couples! \n👰 What to Expect: \n\nA spectacular showcase of wedding vendors from all across the industry.  SEE VENDOR LIST BELOW!\nIndulge IN delectable food samples and culinary delights.\nMeet and greet with hundreds of couples actively planning their dream weddings.\nExciting prizes and giveaways throughout the event.\nConclude the expo with an exclusive cocktail party\, perfect for networking and celebrating your successes.\n\n💍 Grand Giveaway Wedding: In addition to the vendor prizes\, we are thrilled to announce the Grand Giveaway Wedding! One lucky couple will have the chance to win a full free wedding package\, courtesy of our generous vendors.  SEE DETAILS OF BOTH PACKAGES BELOW! \n  \nGiveaway Details (Updated as New Vendors Confirm)\n2026 Castle Couples’ Giveaway\nOnly couples reserved at Castle Farms by November 7th\, 2026 are eligible to enter this drawing. \nRehearsal Dinner: \nVenue:  Queen’s Tavern at Castle Farms \nCatering:  PER Catering & Events \nDesign/Decor : Elegance Wedding Design \nWedding Day Bonuses: \nRentals Package & Early Dressing Room Access:  Castle Farms \nCurrent Package Value: $4\,000\n  \n2026 Grand Wedding Giveaway\nOnly couples not yet reserved at Castle Farms are eligible to enter this drawing. \nGrand Wedding Giveaway Vendors \nWedding Venue: Castle Farms \nOfficiant:  Charlevoix Wedding Pastor \nCatering:  Grey Gables Restaurant & Catering \nTransportation: Midnight Madness \nFlorist: T&T Floral  \nWedding Day Bonuses: \nRentals Package & Early Dressing Room Access:  Castle Farms \nCurrent Package Value: $18\,600\n  \n2026 Castle Couples’ Giveaway\nOnly couples reserved at Castle Farms by November 8th\, 2025 are eligible to enter this drawing. \nRehearsal Dinner: \nVenue:  Queen’s Tavern at Castle Farms \nDesign/Decor : Elegance Wedding Design \nPhoto Session: Curtis Myers Wedding Photography \nWedding Day Bonuses: \nRentals Package & Early Dressing Room Access:  Castle Farms \nPackage Value: $4\,500\n\n2025 Grand Wedding Giveaway\nOnly couples not yet reserved at Castle Farms are eligible to enter this drawing. \nGrand Wedding Giveaway Vendors \nWedding Venue: Castle Farms \nOfficiant:  Charlevoix Wedding Pastor \nPhotography: Curtis Myers Wedding Photography \nCatering:  PER Catering & Events \nTransportation: Midnight Madness \nAccommodations: The Earl \nFlorist: T&T Floral \nAttire: Petoskey Bridal \nPhoto Booth: Parker Marshall Entertainment \nDraping: Sensational Events \nDeserts: Tessa Maes’ Bakery \nWedding Day Bonuses: \nRentals Package & Early Dressing Room Access:  Castle Farms \nPackage Value: $22\,050\n  \nThat’s Amazing! How Do I Win?\n\nAttend the Grand Wedding Expo\nFill your Registration form with the signatures of every vendor\nTurn your Registration form in before 3:00pm\nWatch the fashion show and listen for the Grand Giveaway announcement\nCelebrate if you win!\n\nWhat are the Rules?\n\nCastle Couple Giveaway is open only to couples who are already booked at Castle Farms.\nThe Grand Wedding Giveaway is open only to couples who are NOT already booked at Castle Farms.\nWedding vendors volunteer their services; each year we may have different inclusions in the package.\nWinner will be drawn LIVE at the end of the cocktail party.\nBride or Groom must be present to win.\nWedding date must be within the next calendar year. For example\, if you win in 2025\, your wedding must take place before the end of 2026.\nCastle Farms and wedding vendors are subject to availability. It is your responsibility to choose a date that the vendors are available.\nIn the event that a vendor is not available on your chosen date\, no alternate vendor is provided nor is any compensation available.\nWedding reception must take place at Castle Farms.\nBoth parties must be 18 years old or older to enter.\nOnly one entry per couple.\nNon-transferable.\n\n  \nVendor List (Updated as Vendors Confirm)\nCatering: \nhttps://castlefarms.com/wp-admin/post.php?post=180221&action=edit \nBubbles & Brews \nGrey Gables Restaurant & Catering \nPigs Eatin’ Ribs \nEntertainment: \nEd’s DJ Service \nFloral: \nT&T Floral \nPhotography/Videography: \nDarrell Christie Photography \nInspired Media \nMillers Photography \nTransportation: \nMidnight Madness Bus \nSpecialty Services: \nCharlevoix Wedding Pastor \nCity Opera House \nElegance Wedding Design \nOverlook Event Center
URL:https://castlefarms.com/events/grand-wedding-expo-2026-attendees-2/
LOCATION:Castle Farms\, 5052 M66 NORTH\, Charlevoix\, MI\, 49720\, United States
ATTACH;FMTTYPE=image/jpeg:https://castlefarms.com/wp-content/uploads/2024/03/Cocktail-Party-Slideshow-GWE.jpg
END:VEVENT
BEGIN:VEVENT
DTSTART;VALUE=DATE:20261116
DTEND;VALUE=DATE:20261120
DTSTAMP:20260421T045859
CREATED:20260107T201430Z
LAST-MODIFIED:20260205T143758Z
UID:179665-1794787200-1795132799@castlefarms.com
SUMMARY:Stitchin’ Season: The Deer Widow’s Quilting Retreat
DESCRIPTION:🧵 Stitchin’ Season: The Deer Widow’s Quilting Retreat\n📅 Monday\, November 16 – Thursday\, November 19\n📍 Castle Farms\n💲 $200 per person | Limited to 50 guests \nReserve Your Spot Now! \nWhile the hunters head into the woods\, it’s time for the quilters to head to the castle! Join us for Stitchin’ Season: The Deer Widow’s Quilting Retreat\, a four-day creative escape designed just for you. Whether you’re looking to make progress on a project\, learn something new\, or simply enjoy a few peaceful days filled with fabric\, laughter\, and inspiration—this is your moment. \n✨ What’s Included:\n• Shared 8 ft table workspace in a bright\, cozy room\n• Daily breakfast and lunch\, with dessert included\n• A guided tour of the Castle Farms grounds\n• Name tags for easy mingling and memory-making\n• Evening access to keep the creativity flowing (bring a lamp for extra lighting and a cushion for comfort!)\n• A table reserved for your favorite snacks \n🛍️ Extras:\n• Pop-Up Shopping Vendors – stock up on fabric\, tools\, and goodies right on-site!\n• Optional Classes – take your skills to the next level (materials included; extra cost applies)\n• Live Demonstrations – enjoy a fresh lineup from returning demo hosts \n🏨 Stay & Stitch:\nWe’re thrilled to be partnering once again with Hotel Earl to offer discounted lodging rates exclusively for our retreat attendees. Enjoy boutique comfort just a short drive from Castle Farms—perfect for relaxing after a day of stitching and socializing. The link to reserve your discounted room will be in your Quilting Retreat confirmation email. \n📣 Don’t Forget to Bring:\n• Your sewing machine and supplies\n• Your own lamp for evening sewing\n• A chair cushion or your own comfy chair if preferred \nCome spend four days surrounded by inspiration\, laughter\, and fellow quilters. Whether you’re flying solo or coming with friends\, this is the perfect getaway to stitch\, shop\, and savor the season. \n📌 Space is limited to just 50 guests—reserve your spot today and make this hunting season your Stitchin’ Season! \n\n\n\nItinerary\n\nMonday: 8am-10pm\nTuesday: 6am-10pm\nWednesday: 6am-10pm\nThursday: 6am-6pm \n\n\n  \n 
URL:https://castlefarms.com/events/stitchin-season-the-deer-widows-quilting-retreat-2/
LOCATION:Castle Farms\, 5052 M66 NORTH\, Charlevoix\, MI\, 49720\, United States
ATTACH;FMTTYPE=image/png:https://castlefarms.com/wp-content/uploads/2026/01/Stitchin-Season-Quilting-Retreat-Event-Cover.png
END:VEVENT
BEGIN:VEVENT
DTSTART;TZID=America/New_York:20261121T170000
DTEND;TZID=America/New_York:20261121T190000
DTSTAMP:20260421T045859
CREATED:20251231T162141Z
LAST-MODIFIED:20251231T162306Z
UID:179399-1795280400-1795287600@castlefarms.com
SUMMARY:Live Music: A Celtic Holiday - Featuring Switchback
DESCRIPTION:A Celtic Holiday with Switchback at Castle Farms\n📅 Saturday\, November 21\, 2026\n🕕 Doors Open: 4:00 PM | 🎶 Show: 5:00–7:00 PM \nBACK BY POPULAR DEMAND!  Celebrate the season with the award-winning duo Switchback as they bring their signature blend of Celtic melodies and holiday favorites to the magical setting of Castle Farms. Experience an evening of lively tunes\, heartfelt ballads\, and festive cheer inside the historic stone walls\, beautifully decorated for Christmas. \n✨ Tickets: \n\nGeneral Admission – $30: Open seating for an unforgettable holiday concert.\nVIP Experience – $45: Enjoy open seating is a reserved\, close-up section and one complimentary drink ticket.\n\nLet the music of Ireland and the warmth of the holidays fill your heart at this special Castle Farms event. \nPurchase Tickets \nSponsored by Midwestern Broadcasting: 105.7 The Bird & 107.5 WCCW \n 
URL:https://castlefarms.com/events/live-music-a-celtic-holiday-featuring-switchback/
LOCATION:Castle Farms\, 5052 M66 NORTH\, Charlevoix\, MI\, 49720\, United States
ATTACH;FMTTYPE=image/png:https://castlefarms.com/wp-content/uploads/2025/12/Switchback-FB-event-Cover-White-Logo.png
END:VEVENT
END:VCALENDAR