BEGIN:VCALENDAR
VERSION:2.0
PRODID:-//Castle Farms - ECPv6.15.18//NONSGML v1.0//EN
CALSCALE:GREGORIAN
METHOD:PUBLISH
X-WR-CALNAME:Castle Farms
X-ORIGINAL-URL:https://castlefarms.com
X-WR-CALDESC:Events for Castle Farms
REFRESH-INTERVAL;VALUE=DURATION:PT1H
X-Robots-Tag:noindex
X-PUBLISHED-TTL:PT1H
BEGIN:VTIMEZONE
TZID:America/New_York
BEGIN:DAYLIGHT
TZOFFSETFROM:-0500
TZOFFSETTO:-0400
TZNAME:EDT
DTSTART:20240310T070000
END:DAYLIGHT
BEGIN:STANDARD
TZOFFSETFROM:-0400
TZOFFSETTO:-0500
TZNAME:EST
DTSTART:20241103T060000
END:STANDARD
BEGIN:DAYLIGHT
TZOFFSETFROM:-0500
TZOFFSETTO:-0400
TZNAME:EDT
DTSTART:20250309T070000
END:DAYLIGHT
BEGIN:STANDARD
TZOFFSETFROM:-0400
TZOFFSETTO:-0500
TZNAME:EST
DTSTART:20251102T060000
END:STANDARD
BEGIN:DAYLIGHT
TZOFFSETFROM:-0500
TZOFFSETTO:-0400
TZNAME:EDT
DTSTART:20260308T070000
END:DAYLIGHT
BEGIN:STANDARD
TZOFFSETFROM:-0400
TZOFFSETTO:-0500
TZNAME:EST
DTSTART:20261101T060000
END:STANDARD
END:VTIMEZONE
BEGIN:VEVENT
DTSTART;TZID=America/New_York:20250201T160000
DTEND;TZID=America/New_York:20250201T210000
DTSTAMP:20260425T112431
CREATED:20250127T185223Z
LAST-MODIFIED:20250127T185223Z
UID:158074-1738425600-1738443600@castlefarms.com
SUMMARY:Castle Pub: Karaoke Night
DESCRIPTION:Karaoke Night at the Castle Pub \nJoin us on Saturday\, February 1st\, from 4 PM to 9 PM\, for a fun-filled evening of karaoke in the cozy Castle Pub! Whether you’re a seasoned performer or just want to sing your heart out\, this is your chance to shine. Bring your friends\, grab a drink\, and enjoy the music! 🎤🍻
URL:https://castlefarms.com/events/castle-pub-karaoke-night/
LOCATION:Castle Farms\, 5052 M66 NORTH\, Charlevoix\, MI\, 49720\, United States
ATTACH;FMTTYPE=image/png:https://castlefarms.com/wp-content/uploads/2025/01/11.png
END:VEVENT
BEGIN:VEVENT
DTSTART;VALUE=DATE:20250207
DTEND;VALUE=DATE:20250209
DTSTAMP:20260425T112431
CREATED:20250127T185717Z
LAST-MODIFIED:20250203T145505Z
UID:158079-1738886400-1739059199@castlefarms.com
SUMMARY:Castle Pub: Weekend Events February 7 & 8
DESCRIPTION:February 7\nWEAR RED in support of Heart Disease!  Throwback songs by HEART. \nFebruary 8\nSingo Night at the Castle Pub \nGet ready for a twist on bingo with Singo on Sarurday\, February 8th\, from 4 PM to 9 PM\, in the Castle Pub! Mark off song titles on your card as you sing along to the hits. It’s the perfect mix of music\, fun\, and friendly competition. Bring your friends and join the excitement! 🎶🍻
URL:https://castlefarms.com/events/castle-pub-weekend-events-february-7-8/
LOCATION:Castle Farms\, 5052 M66 NORTH\, Charlevoix\, MI\, 49720\, United States
ATTACH;FMTTYPE=image/png:https://castlefarms.com/wp-content/uploads/2025/01/Feb.-2.png
END:VEVENT
BEGIN:VEVENT
DTSTART;TZID=America/New_York:20250214T110000
DTEND;TZID=America/New_York:20250216T160000
DTSTAMP:20260425T112431
CREATED:20250110T200145Z
LAST-MODIFIED:20250110T200223Z
UID:157490-1739530800-1739721600@castlefarms.com
SUMMARY:Charlevoix Indoor Sidewalk Sale Weekend
DESCRIPTION:Join us February 14-16 during Charlevoix’s Indoor Sidewalk Sale Weekend for a unique celebration at Castle Farms! \n\nEnjoy drop-in crafts like light-up pottery pieces\, children’s pottery\, and build-your-own block flower kits in various styles.\nPre-register online and receive a special gift!\nSip on 1918 Cellars wine specials and take home a complimentary wine glass with each ticket.\nExplore exclusive deals in our Gift Shop for a truly memorable day.\nBring your creativity\, family\, and friends to the Queen’s Tavern\, and make Presidents’ Weekend unforgettable!\n\nCraft Prices: \n\n$15 Flower Block Building Kit\n$15 Pottery – Princess\, Horse\, Dragon\n$30 Light-Up Pottery – Gourd House\, Bunny\, Dragon\n\nPurchase Tickets \nEvent Highlights \n\nA Creative Experience for All Ages\nStep into the Queen’s Tavern this Presidents’ Weekend and unleash your creativity! Whether you’re painting a charming light-up pottery piece\, crafting a whimsical flower from blocks\, or helping your little ones design their own pottery\, this event has something for everyone. Our hands-on activities are perfect for families\, couples\, or groups of friends looking to make special memories together.\nSip and Savor the Fun\nEnhance your experience with a selection of 1918 Cellars wines available at our full bar. Each ticket includes a complimentary 1918 Cellars wine glass\, a keepsake to remember your day at Castle Farms. Enjoy exclusive wine specials that pair perfectly with the festive atmosphere of the Queen’s Tavern.\nExclusive Shopping and Savings\nTake advantage of our Gift Shop Moving Sale\, featuring unique items and discounts you won’t find anywhere else. From decor to keepsakes\, it’s the perfect opportunity to shop while enjoying the festivities. Pair your crafts with a little retail therapy to make your visit extra special.\nRelax and Celebrate in Style\nLocated in the cozy and inviting Queen’s Tavern\, this event offers a warm and welcoming space to relax\, craft\, and connect. With drop-in crafts available throughout the day and a special gift for online preregistration\, you can enjoy a stress-free and flexible day out.\nAn Unforgettable Holiday Weekend\nCelebrate Presidents’ Weekend with a one-of-a-kind activity that combines creativity\, delicious wine\, and exclusive shopping. Whether you’re a local or visiting Charlevoix for the weekend\, this event at Castle Farms is a must-experience highlight of the season.
URL:https://castlefarms.com/events/charlevoix-indoor-sidewalk-sale-weekend/
LOCATION:Castle Farms\, 5052 M66 NORTH\, Charlevoix\, MI\, 49720\, United States
ATTACH;FMTTYPE=image/png:https://castlefarms.com/wp-content/uploads/2025/01/Presidents-Weekend-Sale-2025-FB-Event-Cover.png
END:VEVENT
BEGIN:VEVENT
DTSTART;TZID=America/New_York:20250215T180000
DTEND;TZID=America/New_York:20250215T200000
DTSTAMP:20260425T112431
CREATED:20250212T190744Z
LAST-MODIFIED:20250212T190744Z
UID:158630-1739642400-1739649600@castlefarms.com
SUMMARY:Castle Pub - Karaoke
DESCRIPTION:Enjoy Karaoke in the Castle Pub from 6-8pm. \nFREE ADMISSION
URL:https://castlefarms.com/events/castle-pub-karaoke/
LOCATION:Castle Farms\, 5052 M66 NORTH\, Charlevoix\, MI\, 49720\, United States
ATTACH;FMTTYPE=image/png:https://castlefarms.com/wp-content/uploads/2025/02/Feb.-3.png
END:VEVENT
BEGIN:VEVENT
DTSTART;VALUE=DATE:20250221
DTEND;VALUE=DATE:20250223
DTSTAMP:20260425T112431
CREATED:20250127T190449Z
LAST-MODIFIED:20250127T190449Z
UID:158081-1740096000-1740268799@castlefarms.com
SUMMARY:Castle Pub: Weekend Events February 21 & 22
DESCRIPTION:Friday\, February 21st \nGame Night! \nSaturday\, February 22nd\nGalentine’s Day!  Pub open 2-9pm.  Galentine Vendor Market from 2-6pm – FREE ADMISSION TO MARKET!
URL:https://castlefarms.com/events/castle-pub-weekend-events-february-21-22/
LOCATION:Castle Farms\, 5052 M66 NORTH\, Charlevoix\, MI\, 49720\, United States
ATTACH;FMTTYPE=image/png:https://castlefarms.com/wp-content/uploads/2025/01/31.png
END:VEVENT
BEGIN:VEVENT
DTSTART;TZID=America/New_York:20250222T160000
DTEND;TZID=America/New_York:20250222T180000
DTSTAMP:20260425T112431
CREATED:20241115T135745Z
LAST-MODIFIED:20250107T144523Z
UID:156444-1740240000-1740247200@castlefarms.com
SUMMARY:Galentine’s Party
DESCRIPTION:Get ready to celebrate Galentine’s Day like never before! Our event has been rescheduled to Saturday\, February 22nd\, 2025\, from 4 PM to 6 PM. Join us for an unforgettable evening of creativity\, connection\, and celebration with your favorite gals. \nWhat to Expect: \nAn complimentary wine glass for each attendee to take home as a keepsake. \nEnjoy a complimentary 2oz drink and a small bite. \nDive into the creative fun with our candle-making craft kit\, included with your ticket. \nNew Addition: FREE ADMISSION to Galentine’s Market\nCome early and explore our vibrant Galentine’s Market\, open from 2 PM to 6 PM\, featuring an array of local vendors offering unique goods and gifts. It’s the perfect opportunity to shop for yourself or your besties! \nWhether you’re here for the crafting\, the shopping\, or simply spending quality time with friends\, this Galentine’s Day celebration will be one to remember. We can’t wait to see you there! \nPurchase Tickets \n 
URL:https://castlefarms.com/events/galentines-party/
LOCATION:Castle Farms\, 5052 M66 NORTH\, Charlevoix\, MI\, 49720\, United States
ATTACH;FMTTYPE=image/png:https://castlefarms.com/wp-content/uploads/2024/11/Galentines-Event-Flyer.png
END:VEVENT
BEGIN:VEVENT
DTSTART;TZID=America/New_York:20250228T160000
DTEND;TZID=America/New_York:20250228T210000
DTSTAMP:20260425T112431
CREATED:20250127T191124Z
LAST-MODIFIED:20250127T191124Z
UID:158083-1740758400-1740776400@castlefarms.com
SUMMARY:Castle Pub: Trivia Night!
DESCRIPTION:Trivia Night at the Castle Pub \nTest your knowledge at Trivia Night on Friday\, February 28th\, from 4 PM to 9 PM\, in the Castle Pub! Gather your team\, grab a drink\, and tackle fun and challenging questions across a variety of topics. It’s a night of friendly competition and great company. Don’t miss out! 🧠🍻
URL:https://castlefarms.com/events/castle-pub-trivia-night/
LOCATION:Castle Farms\, 5052 M66 NORTH\, Charlevoix\, MI\, 49720\, United States
ATTACH;FMTTYPE=image/png:https://castlefarms.com/wp-content/uploads/2025/01/Feb.-1.png
END:VEVENT
END:VCALENDAR