BEGIN:VCALENDAR
VERSION:2.0
PRODID:-//Castle Farms - ECPv6.15.18//NONSGML v1.0//EN
CALSCALE:GREGORIAN
METHOD:PUBLISH
X-WR-CALNAME:Castle Farms
X-ORIGINAL-URL:https://castlefarms.com
X-WR-CALDESC:Events for Castle Farms
REFRESH-INTERVAL;VALUE=DURATION:PT1H
X-Robots-Tag:noindex
X-PUBLISHED-TTL:PT1H
BEGIN:VTIMEZONE
TZID:America/New_York
BEGIN:DAYLIGHT
TZOFFSETFROM:-0500
TZOFFSETTO:-0400
TZNAME:EDT
DTSTART:20240310T070000
END:DAYLIGHT
BEGIN:STANDARD
TZOFFSETFROM:-0400
TZOFFSETTO:-0500
TZNAME:EST
DTSTART:20241103T060000
END:STANDARD
BEGIN:DAYLIGHT
TZOFFSETFROM:-0500
TZOFFSETTO:-0400
TZNAME:EDT
DTSTART:20250309T070000
END:DAYLIGHT
BEGIN:STANDARD
TZOFFSETFROM:-0400
TZOFFSETTO:-0500
TZNAME:EST
DTSTART:20251102T060000
END:STANDARD
BEGIN:DAYLIGHT
TZOFFSETFROM:-0500
TZOFFSETTO:-0400
TZNAME:EDT
DTSTART:20260308T070000
END:DAYLIGHT
BEGIN:STANDARD
TZOFFSETFROM:-0400
TZOFFSETTO:-0500
TZNAME:EST
DTSTART:20261101T060000
END:STANDARD
END:VTIMEZONE
BEGIN:VEVENT
DTSTART;TZID=America/New_York:20250301T110000
DTEND;TZID=America/New_York:20250301T150000
DTSTAMP:20260425T124953
CREATED:20250113T192133Z
LAST-MODIFIED:20250113T192133Z
UID:157584-1740826800-1740841200@castlefarms.com
SUMMARY:Escape Rooms
DESCRIPTION:🔐 Escape the Ordinary at Castle Farms! \nJoin us on March 1st from 11 AM to 3 PM for an exciting adventure featuring four unique escape rooms\, each with a different thrilling theme. Every room is designed to challenge your wits and takes approximately 15 minutes to solve—perfect for a quick burst of fun or trying all four! \n🎟️ Pricing Options: \n\n$7 per room (per person)\n$25 for all four rooms (per person\, save $3!)\n\n📅 This event kicks off Day 1 of our Community Sale\, making it the perfect outing for fun and shopping. \n💡 How to Join:\nPre-book your admission to secure your spot\, or purchase at the door on the day of the event. \nBook Your Escape Rooms NOW! \nGather your team\, test your skills\, and make unforgettable memories at Castle Farms! \nHIGHLIGHTS \nFour Unique Adventures\nStep into a world of mystery and challenge with four distinct escape room themes. Each room offers a different adventure\, from unraveling puzzles to decoding clues\, ensuring there’s something exciting for everyone. Whether you’re a seasoned escape room enthusiast or trying one for the first time\, this event promises a thrilling experience. \nQuick\, Engaging Fun\nWith each escape room designed to take approximately 15 minutes to solve\, you can enjoy a quick burst of excitement without a major time commitment. It’s the perfect opportunity to try your hand at multiple challenges or savor just one thrilling room during your visit. \nPerfect Pairing with Community Sale\nThis event is held in conjunction with the first day of Castle Farms’ Community Sale. Not only can you test your skills in the escape rooms\, but you can also enjoy a vibrant marketplace filled with unique finds and treasures. It’s an ideal day out for fun and shopping under one roof. \nFlexible Admission Options\nWhether you want to plan ahead and pre-book or prefer to decide on the spot\, this event accommodates everyone. The affordable pricing and package options make it accessible for groups\, families\, and individuals alike. \nMemorable Fun for All Ages\nThe escape rooms are designed to be enjoyable and challenging for a wide range of participants. Bring your family\, friends\, or coworkers and create lasting memories as you work together to beat the clock!
URL:https://castlefarms.com/events/escape-rooms/
LOCATION:Castle Farms\, 5052 M66 NORTH\, Charlevoix\, MI\, 49720\, United States
ATTACH;FMTTYPE=image/png:https://castlefarms.com/wp-content/uploads/2025/01/Escape-Rooms-Event-Cover.png
END:VEVENT
BEGIN:VEVENT
DTSTART;TZID=America/New_York:20250301T110000
DTEND;TZID=America/New_York:20250302T150000
DTSTAMP:20260425T124953
CREATED:20241115T183742Z
LAST-MODIFIED:20250206T161500Z
UID:156452-1740826800-1740927600@castlefarms.com
SUMMARY:Community Sale
DESCRIPTION:This event was so popular in 2024 that we decided to make it even bigger and better! 2025 features 2 Floors\, 2 Days\, and $2! The show will run for 2 days and encompass the ENTIRE MAIN BUILDING OF CASTLE FARMS (2 floors)\, with admission set at $2 per person for all ages above 16. Guests 16 and under are still free. \nReserve a booth to sell your goodies and join us for a vibrant and bustling day of community connections and treasures galore at our Community Sale event! \nDate: Saturday\, March 1st & Sunday\, March 2nd\nTime: 11am – 3pm\nLocation: Castle Farms in Charlevoix\, Michigan \nWhat to Expect:\nYard Sale Finds: Explore a wide array of pre-loved treasures as community members clear out their closets and offer unique yard sale items. \nCrafters’ Corner: Immerse yourself in a world of creativity! Talented crafters from our community will showcase handmade goods\, bringing an artistic flair to your day. \nDirect Sale Delights: Discover fantastic products and services from local direct sale businesses. Support your neighbors while indulging in quality goods. \nAuthors: Find immersive new reads from local authors. \nAdmission: $2 per person (Ages 15 and below are FREE) \nHow to Participate:\nIf you’re looking to declutter or showcase your crafting skills\, reserve your space now! Spaces are limited\, so act fast. \nSingle Booth: $40 for 10×8\nDouble Booth: $70 for 20×8\nTables are not included but can be rented for:\n6 Foot: $4\n8 Foot: $5 \nDon’t miss out on this fantastic opportunity to shop\, connect\, and celebrate community spirit at our Community Sale on March 1st and 2nd. Bring your family\, invite your friends\, and make it a day to remember! \nSee you there! \nNO FIREARMS OR ALCOHOL BOOTHS PERMITTED. \nPlease be advised that Castle Farms reserves the right to refuse entry to vendors whose product themes are deemed inconsistent with our community values. We believe in fostering an atmosphere that reflects the preferences and expectations of our community members. \nPurchase Vendor Booth
URL:https://castlefarms.com/events/156452/
LOCATION:Castle Farms\, 5052 M66 NORTH\, Charlevoix\, MI\, 49720\, United States
ATTACH;FMTTYPE=image/png:https://castlefarms.com/wp-content/uploads/2024/11/Community-Sale-1920-x-1080-px.png
END:VEVENT
BEGIN:VEVENT
DTSTART;TZID=America/New_York:20250308T180000
DTEND;TZID=America/New_York:20250308T220000
DTSTAMP:20260425T124953
CREATED:20250223T222845Z
LAST-MODIFIED:20250223T222845Z
UID:159125-1741456800-1741471200@castlefarms.com
SUMMARY:16th Annual Rotary Club of Charlevoix's St Patrick's Day Party
DESCRIPTION:This event is hosted by the Charlevoix Rotary Club AT Castle Farms.  For more information\, please contact the Rotary Club. \nTickets are officially on sale for Charlevoix’s favorite party of the year happening Saturday\, March 8!\n\n$75/ticket includes dinner catered by Grey Gables\, open bar & a night of entertainment by 80’s tribute band Starfarm!\n\nTickets on sale at Lakeshore Chiropractic or from any Rotarian
URL:https://castlefarms.com/events/16th-annual-rotary-club-of-charlevoixs-st-patricks-day-party/
LOCATION:Castle Farms\, 5052 M66 NORTH\, Charlevoix\, MI\, 49720\, United States
ATTACH;FMTTYPE=image/jpeg:https://castlefarms.com/wp-content/uploads/2025/02/475974831_1037323308419331_8846648598762453020_n-1.jpg
END:VEVENT
BEGIN:VEVENT
DTSTART;TZID=America/New_York:20250312T140000
DTEND;TZID=America/New_York:20250312T210000
DTSTAMP:20260425T124953
CREATED:20250305T202352Z
LAST-MODIFIED:20250305T203937Z
UID:159516-1741788000-1741813200@castlefarms.com
SUMMARY:Castle Pub - Charlevoix Business Expo
DESCRIPTION:Join the Charlevoix Chamber for their annual Business Expo & Taste of Charlevoix!  Admission required to attend this event. \nThe Castle Pub will be OPEN FOR BUSINESS during the expo from 2-9pm. \nFeaturing: \nChili $5 \nCiders $4 \nDrink Special: $7 Charlevoix the Beautiful – A vibrant blue cocktail inspired by the crystal-clear waters of Charlevoix\, featuring Michigan-made Gypsy Vodka
URL:https://castlefarms.com/events/castle-pub-charlevoix-business-expo/
LOCATION:Castle Farms\, 5052 M66 NORTH\, Charlevoix\, MI\, 49720\, United States
ATTACH;FMTTYPE=image/png:https://castlefarms.com/wp-content/uploads/2025/03/3.12.25.png
END:VEVENT
BEGIN:VEVENT
DTSTART;TZID=America/New_York:20250314T173000
DTEND;TZID=America/New_York:20250314T203000
DTSTAMP:20260425T124953
CREATED:20250306T210157Z
LAST-MODIFIED:20250314T200839Z
UID:159571-1741973400-1741984200@castlefarms.com
SUMMARY:Bags & Brews Cornhole Tournament
DESCRIPTION:Friday March 14th 6:30pm (players arrival time 5:30pm) \nLocated in the EAST GARDEN ROOM at Castle Farms\n$10 per team: First 9 teams that sign up receive a mug. \nTeam Size: 2 players per team.\nDouble Elimination\nScoring: Traditional cornhole rules (1 point on board\, 3 points in hole\, first to 21). \nWalk in registration ends at 5:30pm if space is available. \nThere will be live music and $2.50 draft bud light \nSign Up for Tournament \n\n\n\n\n\nItinerary\n\n\n\n\n5:30pm Players arrive and check in\n6:30pm Tournament play begins\n8:30pm Anticipated end time \n\n\n\nHighlights\n\n🏰 A Unique Setting – Play your favorite backyard game in the historic and lively atmosphere of Castle Farms. With great drinks\, friendly competition\, this is not your average cornhole tournament! \n🥇 Prizes & Bragging Rights – Compete against other teams for a chance to win exciting prizes and claim the title of Castle Pub Cornhole Champions! Whether you’re in it to win it or just for fun\, everyone has a shot at victory. \n🍻 Food & Drink Specials – Enjoy exclusive pub specials throughout the night\, including beer\, cocktails\, and delicious bites to keep you fueled while you play. \n🎯 Fun for All Skill Levels – Whether you’re a seasoned pro or just tossing for fun\, this tournament welcomes players of all experience levels. Grab a partner\, bring your best throws\, and join in on the excitement!
URL:https://castlefarms.com/events/bags-brews-cornhole-tournament/
LOCATION:Castle Farms\, 5052 M66 NORTH\, Charlevoix\, MI\, 49720\, United States
ATTACH;FMTTYPE=image/png:https://castlefarms.com/wp-content/uploads/2025/03/Bags-Brew-Cornhole-Torny-Event-Cover.png
END:VEVENT
BEGIN:VEVENT
DTSTART;TZID=America/New_York:20250315T160000
DTEND;TZID=America/New_York:20250315T210000
DTSTAMP:20260425T124953
CREATED:20250305T204139Z
LAST-MODIFIED:20250307T154141Z
UID:159521-1742054400-1742072400@castlefarms.com
SUMMARY:Castle Pub - St Patrick's Weekend!
DESCRIPTION:🍺 Pub Open: 4-9 PM🎤 DJ Brad Mellberg: 6 PM🎭 Will Harrison: Before\, after\, & during DJ breaks \nYou don’t need to travel to Ireland to find the Blarney Castle—we’ve got the Castle\, and local Irishman Will Harrison will provide the Blarney! Enjoy his lighthearted comic monologues\, witty storytelling\, and poetic musings\, plus a couple of acapella Irish songs to set the mood. He’ll be entertaining before the DJ and during breaks\, sharing tales from a fella who knows a fella who possibly says they’re true. \nFeaturing: Irish Stew\, Potato Leek Soup\, Corned Beef Sandwiches\, & Drink Specials: Luckytini & Gingersnap —perfect for St. Patrick’s Day and March Madness celebrations! \nThen\, DJ Brad Mellberg takes over at 6 PM to keep the party going with all your favorite hits. \n🍻 Raise a glass\, wear your green\, and join us for a night of Irish charm and festive fun!
URL:https://castlefarms.com/events/159521/
LOCATION:Castle Farms\, 5052 M66 NORTH\, Charlevoix\, MI\, 49720\, United States
ATTACH;FMTTYPE=image/png:https://castlefarms.com/wp-content/uploads/2025/03/March-15-Pub-1.png
END:VEVENT
BEGIN:VEVENT
DTSTART;VALUE=DATE:20250321
DTEND;VALUE=DATE:20250323
DTSTAMP:20260425T124953
CREATED:20250305T204337Z
LAST-MODIFIED:20250321T142637Z
UID:159522-1742515200-1742687999@castlefarms.com
SUMMARY:Castle Pub - March Madness Weekend!
DESCRIPTION:Friday\, March 21st: March Madness – Join us for the First Round!   \nSaturday\, March 15th:  KARAOKE from 6-8pm hosted by Ken Dinkins!  March Madness – Second Round will play before & after!   \n  \nFeaturing: Drink Special Full Court Press $7 -A bold and refreshing whiskey smash with a citrus kick to keep you energized through madness!
URL:https://castlefarms.com/events/castle-pub-march-madness-weekend/
LOCATION:Castle Farms\, 5052 M66 NORTH\, Charlevoix\, MI\, 49720\, United States
ATTACH;FMTTYPE=image/png:https://castlefarms.com/wp-content/uploads/2025/03/Feb.-4.png
END:VEVENT
BEGIN:VEVENT
DTSTART;TZID=America/New_York:20250329T110000
DTEND;TZID=America/New_York:20250330T160000
DTSTAMP:20260425T124953
CREATED:20241210T173807Z
LAST-MODIFIED:20250325T192939Z
UID:156949-1743246000-1743350400@castlefarms.com
SUMMARY:Charlevoix Home Show
DESCRIPTION:This Event is NOT hosted by Castle Farms – Please click on the link to learn more information\, fill out an application\, or contact the show hosts. \nClick HERE for the event’s OFFICIAL WEBSITE \nMarch 29-30\, 2025\nSaturday 11-4\n​Sunday 12-4 \nCastle Farms\n5052 M66 North\, Charlevoix\, MI \nAdmission: Adults $5\n​Parking: Free\n\n\n\n\n\n\nCHARLEVOIX HOME SHOW \nYour home is your castle. \nWe are excited to add our newest home show\, Charlevoix Home Show\, which will take place in the biggest castle in Michigan\, Castle Farms. \nAt the Charlevoix Home Show speak directly with home improvement companies that do projects in your area. \nSet appointments with the experts to get quotes and start planning your projects. \n​At the Charlevoix Home Show you will find local experts in roofing\, siding\, windows\, garage floor coatings\, door-walls\, doors\, decks\, bathrooms\, home insulation\, gutter guards\, carpeting\, wood and laminate flooring\, patio furniture\, even solar systems and more. \nThe Charlevoix Home Show is located in the main hall (East Hall) at Castle Farms right off the main entrance.
URL:https://castlefarms.com/events/156949/
LOCATION:Castle Farms\, 5052 M66 NORTH\, Charlevoix\, MI\, 49720\, United States
ATTACH;FMTTYPE=image/jpeg:https://castlefarms.com/wp-content/uploads/2024/12/michigan-lake-house-logo-9-18-24_5.jpg
END:VEVENT
END:VCALENDAR